BEGIN:VCALENDAR
VERSION:2.0
PRODID:SchoolNow
CALSCALE:GREGORIAN
BEGIN:VEVENT
UID:cdcfa9fa-cfa1-11f0-8482-028db7c489ef
DTSTAMP:20251216T154527Z
SUMMARY:IV ELAC #5
URL;VALUE=URI:https://www.gusd.us/islavista/calendar/8815612/iv-elac-5
DTSTART:20260409T000000Z
DTEND:20260409T010000Z
END:VEVENT
END:VCALENDAR
