BEGIN:VCALENDAR
VERSION:2.0
PRODID:SchoolNow
CALSCALE:GREGORIAN
BEGIN:VEVENT
UID:5b0f1b90-d964-11f0-92dd-0a58a9feac02
DTSTAMP:20251216T154527Z
SUMMARY:Winter Recess: Schools Closed
URL;VALUE=URI:https://www.gusd.us/islavista/calendar/8823791/winter-recess-
 schools-closed
DTSTART;VALUE=DATE:20251229
DTEND;VALUE=DATE:20260103
END:VEVENT
END:VCALENDAR
