BEGIN:VCALENDAR
VERSION:2.0
PRODID:SchoolNow
CALSCALE:GREGORIAN
BEGIN:VEVENT
UID:6a7f4a76-d984-11f0-84a5-0a58a9feac02
DTSTAMP:20260422T162016Z
SUMMARY:Winter Recess: Schools Closed
URL;VALUE=URI:https://www.gusd.us/islavista/calendar/8823818/winter-recess-
 schools-closed
DTSTART;VALUE=DATE:20251222
DTEND;VALUE=DATE:20251227
END:VEVENT
END:VCALENDAR
