BEGIN:VCALENDAR
VERSION:2.0
PRODID:SchoolNow
CALSCALE:GREGORIAN
BEGIN:VEVENT
UID:62d85908-dc49-11f0-a0fa-0a58a9feac02
DTSTAMP:20260422T162016Z
SUMMARY:After School Enrichment Classes Begin!!
URL;VALUE=URI:https://www.gusd.us/islavista/calendar/8825792/after-school-e
 nrichment-classes-begin
DTSTART;VALUE=DATE:20260126
DTEND;VALUE=DATE:20260127
END:VEVENT
END:VCALENDAR
