BEGIN:VCALENDAR
VERSION:2.0
PRODID:SchoolNow
CALSCALE:GREGORIAN
BEGIN:VEVENT
UID:62d879ce-dc49-11f0-b15f-0a58a9feac02
DTSTAMP:20260422T162016Z
SUMMARY:Jog-a-Thon Planning Meeting
LOCATION:Captain Fatty's Brewery\, 6489 Calle Real Suite D\, Goleta\, CA 93
 117\, USA
URL;VALUE=URI:https://www.gusd.us/islavista/calendar/8825793/jog-a-thon-pla
 nning-meeting
DTSTART:20260111T220000Z
DTEND:20260111T230000Z
END:VEVENT
END:VCALENDAR
