BEGIN:VCALENDAR
VERSION:2.0
PRODID:SchoolNow
CALSCALE:GREGORIAN
BEGIN:VEVENT
UID:f3cce588-f665-11f0-8eea-0a58a9feac02
DTSTAMP:20260422T162016Z
SUMMARY:IV TK/K Information Night
URL;VALUE=URI:https://www.gusd.us/islavista/calendar/8838503/iv-tk-k-inform
 ation-night
DTSTART:20260305T013000Z
DTEND:20260305T023000Z
END:VEVENT
END:VCALENDAR
