BEGIN:VCALENDAR
VERSION:2.0
PRODID:SchoolNow
CALSCALE:GREGORIAN
BEGIN:VEVENT
UID:835b799c-f730-11f0-adea-0e87fa9a2239
DTSTAMP:20260422T162016Z
SUMMARY:PTA Board Meeting
URL;VALUE=URI:https://www.gusd.us/islavista/calendar/8839139/pta-board-meet
 ing
DTSTART:20260128T020000Z
DTEND:20260128T033000Z
END:VEVENT
END:VCALENDAR
