BEGIN:VCALENDAR
VERSION:2.0
PRODID:SchoolNow
CALSCALE:GREGORIAN
BEGIN:VEVENT
UID:ec5f8e18-05d3-11f1-9348-0a58a9feac02
DTSTAMP:20260422T162016Z
SUMMARY:IV Conchas & Coffee with Principal Corral and School Tour
LOCATION:Isla Vista Elementary School\, 6875 El Colegio Rd\, Goleta\, CA 93
 117\, USA
URL;VALUE=URI:https://www.gusd.us/islavista/calendar/8851657/iv-conchas-cof
 fee-with-principal-corral-and-school-tour
DTSTART:20260306T163000Z
DTEND:20260306T173000Z
END:VEVENT
END:VCALENDAR
