BEGIN:VCALENDAR
VERSION:2.0
PRODID:SchoolNow
CALSCALE:GREGORIAN
BEGIN:VEVENT
UID:fcd0f18a-0cf2-11f1-9821-0a58a9feac02
DTSTAMP:20260422T162016Z
SUMMARY:TechWell Parent Presentation
LOCATION:Brandon School\, 195 Brandon Dr\, Goleta\, CA 93117\, USA
URL;VALUE=URI:https://www.gusd.us/islavista/calendar/8859099/techwell-paren
 t-presentation
DTSTART:20260304T020000Z
DTEND:20260304T033000Z
END:VEVENT
END:VCALENDAR
