BEGIN:VCALENDAR
VERSION:2.0
PRODID:SchoolNow
CALSCALE:GREGORIAN
BEGIN:VEVENT
UID:8f62c6c0-0dbd-11f1-9e81-0a58a9feac02
DTSTAMP:20260422T162016Z
SUMMARY:IV Conchas & Coffee with Principal Corral
LOCATION:Isla Vista Elementary School\, 6875 El Colegio Rd\, Goleta\, CA 93
 117\, USA
URL;VALUE=URI:https://www.gusd.us/islavista/calendar/8860649/iv-conchas-cof
 fee-with-principal-corral
DTSTART:20260206T163000Z
DTEND:20260206T173000Z
END:VEVENT
END:VCALENDAR
