BEGIN:VCALENDAR
VERSION:2.0
PRODID:SchoolNow
CALSCALE:GREGORIAN
BEGIN:VEVENT
UID:8f62ca1c-0dbd-11f1-922e-0a58a9feac02
DTSTAMP:20260422T162016Z
SUMMARY:IV Conchas & Coffee with Principal Corral
LOCATION:Isla Vista Elementary School\, 6875 El Colegio Rd\, Goleta\, CA 93
 117\, USA
URL;VALUE=URI:https://www.gusd.us/islavista/calendar/8860650/iv-conchas-cof
 fee-with-principal-corral
DTSTART:20260213T163000Z
DTEND:20260213T173000Z
END:VEVENT
END:VCALENDAR
