BEGIN:VCALENDAR
VERSION:2.0
PRODID:SchoolNow
CALSCALE:GREGORIAN
BEGIN:VEVENT
UID:06042680-16d7-11f1-a8d6-0affcea0b6c5
DTSTAMP:20260422T162016Z
SUMMARY:Isla Vista Book Swap Day!
URL;VALUE=URI:https://www.gusd.us/islavista/calendar/8886448/isla-vista-boo
 k-swap-day
DTSTART;VALUE=DATE:20260303
DTEND;VALUE=DATE:20260304
END:VEVENT
END:VCALENDAR
