BEGIN:VCALENDAR
VERSION:2.0
PRODID:SchoolNow
CALSCALE:GREGORIAN
BEGIN:VEVENT
UID:06042a9a-16d7-11f1-94c5-0affcea0b6c5
DTSTAMP:20260422T162015Z
SUMMARY:Read Across America week!
URL;VALUE=URI:https://www.gusd.us/islavista/calendar/8886449/read-across-am
 erica-week
DTSTART;VALUE=DATE:20260302
DTEND;VALUE=DATE:20260307
END:VEVENT
END:VCALENDAR
