BEGIN:VCALENDAR
VERSION:2.0
PRODID:SchoolNow
CALSCALE:GREGORIAN
BEGIN:VEVENT
UID:06042c66-16d7-11f1-b1b8-0affcea0b6c5
DTSTAMP:20260422T162016Z
SUMMARY:Pajama Day!
URL;VALUE=URI:https://www.gusd.us/islavista/calendar/8886450/pajama-day
DTSTART;VALUE=DATE:20260306
DTEND;VALUE=DATE:20260307
END:VEVENT
END:VCALENDAR
