BEGIN:VCALENDAR
VERSION:2.0
PRODID:SchoolNow
CALSCALE:GREGORIAN
BEGIN:VEVENT
UID:94dd7314-17a1-11f1-8fd6-0affdb74e459
DTSTAMP:20260423T042513Z
SUMMARY:Science Night!
LOCATION:Isla Vista Elementary School\, 6875 El Colegio Rd\, Goleta\, CA 93
 117\, USA
URL;VALUE=URI:https://www.gusd.us/islavista/calendar/8889613/science-night
DTSTART:20260515T003000Z
DTEND:20260515T020000Z
END:VEVENT
END:VCALENDAR
