BEGIN:VCALENDAR
VERSION:2.0
PRODID:SchoolNow
CALSCALE:GREGORIAN
BEGIN:VEVENT
UID:23f81e62-186c-11f1-9876-0e707cb9b201
DTSTAMP:20260422T162016Z
SUMMARY:Goleta Valley Library Book Van
URL;VALUE=URI:https://www.gusd.us/islavista/calendar/8892391/goleta-valley-
 library-book-van
DTSTART:20260304T220000Z
DTEND:20260305T003000Z
END:VEVENT
END:VCALENDAR
