BEGIN:VCALENDAR
VERSION:2.0
PRODID:SchoolNow
CALSCALE:GREGORIAN
BEGIN:VEVENT
UID:fc3aa3b4-199b-11f1-9742-0e1b0160849d
DTSTAMP:20260423T042513Z
SUMMARY:IV Sixth Grade Promotion
URL;VALUE=URI:https://www.gusd.us/islavista/calendar/8896960/iv-sixth-grade
 -promotion
DTSTART:20260603T003000Z
DTEND:20260603T013000Z
END:VEVENT
END:VCALENDAR
