BEGIN:VCALENDAR
VERSION:2.0
PRODID:SchoolNow
CALSCALE:GREGORIAN
BEGIN:VEVENT
UID:3aaf1792-1cc6-11f1-9c83-0a58a9feac02
DTSTAMP:20260423T042513Z
SUMMARY:Wing Stop Fundraiser! Use code: WSCARES
LOCATION:129 N Fairview Ave\, Goleta\, CA 93117\, USA
URL;VALUE=URI:https://www.gusd.us/islavista/calendar/8908113/wing-stop-fund
 raiser-use-code-wscares
DTSTART:20260428T230000Z
DTEND:20260429T030000Z
END:VEVENT
END:VCALENDAR
