BEGIN:VCALENDAR
VERSION:2.0
PRODID:SchoolNow
CALSCALE:GREGORIAN
BEGIN:VEVENT
UID:8aef07be-270f-11f1-9ab9-0a58a9feac02
DTSTAMP:20260422T162016Z
SUMMARY:Goleta Valley Library Book Van
URL;VALUE=URI:https://www.gusd.us/islavista/calendar/8940280/goleta-valley-
 library-book-van
DTSTART:20260325T210000Z
DTEND:20260325T233000Z
END:VEVENT
END:VCALENDAR
