BEGIN:VCALENDAR
VERSION:2.0
PRODID:SchoolNow
CALSCALE:GREGORIAN
BEGIN:VEVENT
UID:8aef2c44-270f-11f1-99c9-0a58a9feac02
DTSTAMP:20260423T042513Z
SUMMARY:Goleta Valley Library Book Van
URL;VALUE=URI:https://www.gusd.us/islavista/calendar/8940285/goleta-valley-
 library-book-van
DTSTART:20260506T210000Z
DTEND:20260506T233000Z
END:VEVENT
END:VCALENDAR
