BEGIN:VCALENDAR
VERSION:2.0
PRODID:SchoolNow
CALSCALE:GREGORIAN
BEGIN:VEVENT
UID:8aef2ec4-270f-11f1-a652-0a58a9feac02
DTSTAMP:20260423T042513Z
SUMMARY:Goleta Valley Library Book Van
URL;VALUE=URI:https://www.gusd.us/islavista/calendar/8940287/goleta-valley-
 library-book-van
DTSTART:20260520T210000Z
DTEND:20260520T233000Z
END:VEVENT
END:VCALENDAR
