BEGIN:VCALENDAR
VERSION:2.0
PRODID:SchoolNow
CALSCALE:GREGORIAN
BEGIN:VEVENT
UID:6c2bdeb4-3223-11f1-b3e5-0a58a9feac02
DTSTAMP:20260423T042513Z
SUMMARY:PTA Board Meeting (on Zoom)
LOCATION:Draughtsmen Aleworks\, 53 Santa Felicia Dr\, Goleta\, CA 93117\, U
 SA
URL;VALUE=URI:https://www.gusd.us/islavista/calendar/8976017/pta-board-meet
 ing-on-zoom
DTSTART:20260520T010000Z
DTEND:20260520T020000Z
END:VEVENT
END:VCALENDAR
