BEGIN:VCALENDAR
VERSION:2.0
PRODID:SchoolNow
CALSCALE:GREGORIAN
BEGIN:VEVENT
UID:45b06076-3353-11f1-8602-0a58a9feac02
DTSTAMP:20260423T042513Z
SUMMARY:2026-2027 Planning & budgeting meeting w Principal Corral
URL;VALUE=URI:https://www.gusd.us/islavista/calendar/8979368/2026-2027-plan
 ning-budgeting-meeting-w-principal-corral
DTSTART:20260521T153000Z
DTEND:20260521T180000Z
END:VEVENT
END:VCALENDAR
