BEGIN:VCALENDAR
VERSION:2.0
PRODID:SchoolNow
CALSCALE:GREGORIAN
BEGIN:VEVENT
UID:dca99674-3e01-11f1-82ac-0ec7635b6591
DTSTAMP:20260423T042513Z
SUMMARY:Kindergarten Promotion!
LOCATION:Isla Vista Elementary School\, 6875 El Colegio Rd\, Goleta\, CA 93
 117\, USA
URL;VALUE=URI:https://www.gusd.us/islavista/calendar/9010707/kindergarten-p
 romotion
DTSTART:20260603T170000Z
DTEND:20260603T180000Z
END:VEVENT
END:VCALENDAR
