BEGIN:VCALENDAR
VERSION:2.0
PRODID:SchoolNow
CALSCALE:GREGORIAN
BEGIN:VEVENT
UID:30c346ec-6f22-11f0-9a2e-0a58a9feac02
DTSTAMP:20251216T154527Z
SUMMARY:Student Minimum Day: 12:00 Dismissal
URL;VALUE=URI:https://www.gusd.us/mtnview/calendar/8464582/student-minimum-
 day-12-00-dismissal
DTSTART;VALUE=DATE:20251009
DTEND;VALUE=DATE:20251010
END:VEVENT
END:VCALENDAR
