BEGIN:VCALENDAR
VERSION:2.0
PRODID:SchoolNow
CALSCALE:GREGORIAN
BEGIN:VEVENT
UID:149bdfaa-7153-11f0-a23c-0eb671e44d81
DTSTAMP:20251216T154527Z
SUMMARY:Picture Day: Cornerstone Photography
URL;VALUE=URI:https://www.gusd.us/mtnview/calendar/8469379/picture-day-corn
 erstone-photography
DTSTART;VALUE=DATE:20250916
DTEND;VALUE=DATE:20250917
END:VEVENT
END:VCALENDAR
