BEGIN:VCALENDAR
VERSION:2.0
PRODID:SchoolNow
CALSCALE:GREGORIAN
BEGIN:VEVENT
UID:149c5d68-7153-11f0-bcad-0eb671e44d81
DTSTAMP:20251216T154527Z
SUMMARY:Cougar Conversations
URL;VALUE=URI:https://www.gusd.us/mtnview/calendar/8469380/cougar-conversat
 ions
DTSTART:20250828T151500Z
DTEND:20250828T154500Z
END:VEVENT
END:VCALENDAR
