BEGIN:VCALENDAR
VERSION:2.0
PRODID:SchoolNow
CALSCALE:GREGORIAN
BEGIN:VEVENT
UID:149c5f0c-7153-11f0-b1ce-0eb671e44d81
DTSTAMP:20251216T154527Z
SUMMARY:Cougar Conversations
URL;VALUE=URI:https://www.gusd.us/mtnview/calendar/8469381/cougar-conversat
 ions
DTSTART:20250904T151500Z
DTEND:20250904T153000Z
END:VEVENT
END:VCALENDAR
