BEGIN:VCALENDAR
VERSION:2.0
PRODID:SchoolNow
CALSCALE:GREGORIAN
BEGIN:VEVENT
UID:aabae97c-797d-11f0-a50d-0a58a9feac02
DTSTAMP:20251216T154527Z
SUMMARY:SPED Connect and Share Night
URL;VALUE=URI:https://www.gusd.us/mtnview/calendar/8509303/sped-connect-and
 -share-night
DTSTART:20250916T000000Z
DTEND:20250916T010000Z
END:VEVENT
END:VCALENDAR
