BEGIN:VCALENDAR
VERSION:2.0
PRODID:SchoolNow
CALSCALE:GREGORIAN
BEGIN:VEVENT
UID:a53b8d56-79e3-11f0-b28d-0a58a9feac02
DTSTAMP:20251216T154527Z
SUMMARY:General PTA Meeting
URL;VALUE=URI:https://www.gusd.us/mtnview/calendar/8510495/general-pta-meet
 ing
DTSTART:20250925T020000Z
DTEND:20250925T030000Z
END:VEVENT
END:VCALENDAR
