BEGIN:VCALENDAR
VERSION:2.0
PRODID:SchoolNow
CALSCALE:GREGORIAN
BEGIN:VEVENT
UID:48b56b02-94c7-11f0-9ef8-0a58a9feac02
DTSTAMP:20251216T154527Z
SUMMARY:Family Picnic #1
URL;VALUE=URI:https://www.gusd.us/mtnview/calendar/8638577/family-picnic-1
DTSTART:20251017T183000Z
DTEND:20251017T203000Z
END:VEVENT
END:VCALENDAR
