BEGIN:VCALENDAR
VERSION:2.0
PRODID:SchoolNow
CALSCALE:GREGORIAN
BEGIN:VEVENT
UID:08186dc4-99c2-11f0-b539-0a58a9feac02
DTSTAMP:20251216T154527Z
SUMMARY:Wacky Wednesday - Favorite Color Day
URL;VALUE=URI:https://www.gusd.us/mtnview/calendar/8661545/wacky-wednesday-
 favorite-color-day
DTSTART;VALUE=DATE:20251001
DTEND;VALUE=DATE:20251002
END:VEVENT
END:VCALENDAR
