BEGIN:VCALENDAR
VERSION:2.0
PRODID:SchoolNow
CALSCALE:GREGORIAN
BEGIN:VEVENT
UID:345a6242-aa17-11f0-a5ab-0a58a9feac02
DTSTAMP:20251216T154527Z
SUMMARY:Wacky Wednesday - Funny Sock Day
URL;VALUE=URI:https://www.gusd.us/mtnview/calendar/8725318/wacky-wednesday-
 funny-sock-day
DTSTART;VALUE=DATE:20251105
DTEND;VALUE=DATE:20251106
END:VEVENT
END:VCALENDAR
