BEGIN:VCALENDAR
VERSION:2.0
PRODID:SchoolNow
CALSCALE:GREGORIAN
BEGIN:VEVENT
UID:906a9522-adf8-11f0-aab9-026380901c47
DTSTAMP:20251216T154527Z
SUMMARY:MV Fall Parade
URL;VALUE=URI:https://www.gusd.us/mtnview/calendar/8736444/mv-fall-parade
DTSTART:20251031T153000Z
DTEND:20251031T163000Z
END:VEVENT
END:VCALENDAR
